BEGIN:VCALENDAR
VERSION:2.0
PRODID:-//Ashdown Manna Cookery School - ECPv6.15.19//NONSGML v1.0//EN
CALSCALE:GREGORIAN
METHOD:PUBLISH
X-ORIGINAL-URL:https://ashdowncookeryschool.com
X-WR-CALDESC:Events for Ashdown Manna Cookery School
REFRESH-INTERVAL;VALUE=DURATION:PT1H
X-Robots-Tag:noindex
X-PUBLISHED-TTL:PT1H
BEGIN:VTIMEZONE
TZID:UTC
BEGIN:STANDARD
TZOFFSETFROM:+0000
TZOFFSETTO:+0000
TZNAME:UTC
DTSTART:20250101T000000
END:STANDARD
END:VTIMEZONE
BEGIN:VEVENT
DTSTART;TZID=UTC:20260604T180000
DTEND;TZID=UTC:20260604T203000
DTSTAMP:20260423T081333
CREATED:20260301T122504Z
LAST-MODIFIED:20260409T142323Z
UID:10001117-1780596000-1780605000@ashdowncookeryschool.com
SUMMARY:Pizza & Peroni Evening
DESCRIPTION:This evening we will show you how easy it is to make your own pizzas at home from simple\, fresh ingredients with our Italian professional chef\, Stefano Imperiale. \nStefano will show you how to make and knead and shape your own pizza dough from scratch and then will show you a variety of sauces and toppings. Under Stefano’s guidance you will then make two delicious pizzas yourself.  How you finish your masterpiece is up to you\, whether you opt for the thin crust or a Calzone! Afterwards\, sit down and enjoy one of your creations\, the other you will be able to take home with you.\nPrice includes a free bottle of Italian beer or glass of wine.  Soft drinks also available. \nHalf day course hands on course. Includes – tuition from a professional chef\, all ingredients\, laminated recipe cards\, aprons\, bags to take your pizzas home in\, and even someone to wash  up! \nSample dishes:\n• Basic Pizza dough\n• Passata\n• Basil Pesto\n• Margherita Pizza\n• Calzone Pizza\n \n 
URL:https://ashdowncookeryschool.com/event/pizzaevening/
LOCATION:Ashdown Manna Cookery School\, 5 Lodgefield Farm\, Blackham\, East Sussex\, TN3 9TN\, United Kingdom
CATEGORIES:Available Courses,Evening Courses,Half Day,Vegetarian
ATTACH;FMTTYPE=image/jpeg:https://ashdowncookeryschool.com/wp-content/uploads/2026/03/AdobeStock_312138656.jpeg
GEO:51.1276093;0.1428274
X-APPLE-STRUCTURED-LOCATION;VALUE=URI;X-ADDRESS=Ashdown Manna Cookery School 5 Lodgefield Farm Blackham East Sussex TN3 9TN United Kingdom;X-APPLE-RADIUS=500;X-TITLE=5 Lodgefield Farm:geo:0.1428274,51.1276093
END:VEVENT
BEGIN:VEVENT
DTSTART;TZID=UTC:20260620T093000
DTEND;TZID=UTC:20260620T123000
DTSTAMP:20260423T081333
CREATED:20260321T064546Z
LAST-MODIFIED:20260321T064748Z
UID:10001127-1781947800-1781958600@ashdowncookeryschool.com
SUMMARY:Pasta & Pasta Sauces
DESCRIPTION:Ever wanted to learn how to make your own Pasta from scratch? Well dust off that pasta machine\, as this afternoon we will show you just how easy it is! We will also cover the art of pasta/sauce matching\, making three very different sauces\, and how to make a simple filling and stuff your pasta. Pot your sauces and pasta up to take home and enjoy! \nSample dishes:\n• Fresh egg pasta dough\n• Trenette with green pesto sauce\n• Spinach pasta ravioli with a pea & ricotta filling\n• Puttanesca Sauce
URL:https://ashdowncookeryschool.com/event/pasta-pasta-sauces-june/
LOCATION:Ashdown Manna Cookery School\, 5 Lodgefield Farm\, Blackham\, East Sussex\, TN3 9TN\, United Kingdom
CATEGORIES:Available Courses,Half Day,Vegetarian
ATTACH;FMTTYPE=image/png:https://ashdowncookeryschool.com/wp-content/uploads/2019/05/Tortellini.png
ORGANIZER;CN="Ashdown Manna Cookery School":MAILTO:info@ashdowncookeryschool.co.uk
GEO:51.1276093;0.1428274
X-APPLE-STRUCTURED-LOCATION;VALUE=URI;X-ADDRESS=Ashdown Manna Cookery School 5 Lodgefield Farm Blackham East Sussex TN3 9TN United Kingdom;X-APPLE-RADIUS=500;X-TITLE=5 Lodgefield Farm:geo:0.1428274,51.1276093
END:VEVENT
BEGIN:VEVENT
DTSTART;TZID=UTC:20260620T133000
DTEND;TZID=UTC:20260620T163000
DTSTAMP:20260423T081333
CREATED:20260422T152709Z
LAST-MODIFIED:20260422T152835Z
UID:10001137-1781962200-1781973000@ashdowncookeryschool.com
SUMMARY:Pasta & Pasta Sauces
DESCRIPTION:Ever wanted to learn how to make your own Pasta from scratch? Well dust off that pasta machine\, as this afternoon we will show you just how easy it is! We will also cover the art of pasta/sauce matching\, making three very different sauces\, and how to make a simple filling and stuff your pasta. Pot your sauces and pasta up to take home and enjoy! \nSample dishes:\n• Fresh egg pasta dough\n• Trenette with green pesto sauce\n• Spinach pasta ravioli with a pea & ricotta filling\n• Puttanesca Sauce
URL:https://ashdowncookeryschool.com/event/pasta-pasta-sauces-june-copy/
LOCATION:Ashdown Manna Cookery School\, 5 Lodgefield Farm\, Blackham\, East Sussex\, TN3 9TN\, United Kingdom
CATEGORIES:Available Courses,Half Day,Vegetarian
ATTACH;FMTTYPE=image/png:https://ashdowncookeryschool.com/wp-content/uploads/2019/05/Tortellini.png
ORGANIZER;CN="Ashdown Manna Cookery School":MAILTO:info@ashdowncookeryschool.co.uk
GEO:51.1276093;0.1428274
X-APPLE-STRUCTURED-LOCATION;VALUE=URI;X-ADDRESS=Ashdown Manna Cookery School 5 Lodgefield Farm Blackham East Sussex TN3 9TN United Kingdom;X-APPLE-RADIUS=500;X-TITLE=5 Lodgefield Farm:geo:0.1428274,51.1276093
END:VEVENT
BEGIN:VEVENT
DTSTART;TZID=UTC:20260621T093000
DTEND;TZID=UTC:20260621T123000
DTSTAMP:20260423T081333
CREATED:20260318T134108Z
LAST-MODIFIED:20260318T134233Z
UID:10001125-1782034200-1782045000@ashdowncookeryschool.com
SUMMARY:Bread Plus
DESCRIPTION:Discover the more intricate techniques of pre fermented doughs and sweet breads on this half day course.  We will use our own ‘sourdough’ starter to make your loaf\, but you will also have the opportunity to make your own starter to take and home and nuture in a jar for future bread baking!  N.B. You don’t have to have been on our introduction to Bread Course\, this course is suitable for beginners as well. \nHalf day course hands on course. Includes – tuition from a professional chef\, all ingredients\, laminated recipe cards\, aprons\, bags to take your loaves home in\, and even someone to wash  up! \nSample loaves\n• Plaited Brioche\n• Rye Sour dough\n• Tiger Bread \n  \n 
URL:https://ashdowncookeryschool.com/event/bread-plus-june/
LOCATION:Ashdown Manna Cookery School\, 5 Lodgefield Farm\, Blackham\, East Sussex\, TN3 9TN\, United Kingdom
CATEGORIES:Available Courses,Baking,Half Day,Vegetarian
ATTACH;FMTTYPE=image/png:https://ashdowncookeryschool.com/wp-content/uploads/2018/12/sourdough.png
GEO:51.1276093;0.1428274
X-APPLE-STRUCTURED-LOCATION;VALUE=URI;X-ADDRESS=Ashdown Manna Cookery School 5 Lodgefield Farm Blackham East Sussex TN3 9TN United Kingdom;X-APPLE-RADIUS=500;X-TITLE=5 Lodgefield Farm:geo:0.1428274,51.1276093
END:VEVENT
BEGIN:VEVENT
DTSTART;TZID=UTC:20260628T100000
DTEND;TZID=UTC:20260628T160000
DTSTAMP:20260423T081333
CREATED:20260414T142659Z
LAST-MODIFIED:20260414T142825Z
UID:10001136-1782640800-1782662400@ashdowncookeryschool.com
SUMMARY:Italian Cookery
DESCRIPTION:On this full day course\, we embrace all the Italian classics and celebrate their passion for good\, hearty food.  You will learn how to make your own pasta and gnocchi\, the secret behind cooking the perfect risotto\, delicious Focaccia Bread and a traditional dessert.  You won’t be going home hungry after this one! \nFull day hands on course. Includes – tuition from a professional chef\, all ingredients\, laminated recipe cards\, aprons\, three course lunch with wine\, a dish for two to take home\, and even someone to wash up! \nSample Dishes:\n• Rosemary & Red Onion Focaccia Bread\n• Sundried Tomato & Mozzarella Arancini\n• Gnocchi with a Basil & Olive Sauce\n• Roasted Butternut Squash Tortellini\n• Pistachio Biscotti\n• Chocolate & Amaretto Torte
URL:https://ashdowncookeryschool.com/event/june-4/
LOCATION:East Sussex
CATEGORIES:Available Courses,Full Day,Vegetarian
ATTACH;FMTTYPE=image/png:https://ashdowncookeryschool.com/wp-content/uploads/2024/04/Arancini.png
END:VEVENT
END:VCALENDAR